BEGIN:VCALENDAR
PRODID:-//github.com/ical-org/ical.net//NONSGML ical.net 4.0//EN
VERSION:2.0
BEGIN:VEVENT
CREATED:20260422T013859Z
DESCRIPTION:This is a reminder to submit a session to Toulouse PostgreSQL 
 User Group.\nSet the alarm/notification to ensure you don't miss it!\nSes
 sions can be submitted at https://sessionize.com/tls-pug-session/
DTEND:20260905T215900Z
DTSTAMP:20260422T013859Z
DTSTART:20260905T215900Z
LAST-MODIFIED:20260422T013859Z
LOCATION:https://sessionize.com/tls-pug-session
SEQUENCE:0
SUMMARY:Toulouse PostgreSQL User Group: deadline to submit a session
UID:e69c3293-16b0-4e55-a347-ef824df3fc8b
BEGIN:VALARM
ACTION:DISPLAY
DESCRIPTION:Reminder
SUMMARY:Toulouse PostgreSQL User Group: deadline to submit a session
TRIGGER:-P2D
END:VALARM
END:VEVENT
END:VCALENDAR
