BEGIN:VCALENDAR
PRODID:-//github.com/ical-org/ical.net//NONSGML ical.net 4.0//EN
VERSION:2.0
BEGIN:VEVENT
CREATED:20260423T133220Z
DESCRIPTION:This is a reminder to submit a session to Triangle InfoSeCon 2
 026.\nSet the alarm/notification to ensure you don't miss it!\nSessions c
 an be submitted at https://sessionize.com/triangle-infosecon-2026/
DTEND:20261003T035900Z
DTSTAMP:20260423T133220Z
DTSTART:20261003T035900Z
LAST-MODIFIED:20260423T133220Z
LOCATION:https://sessionize.com/triangle-infosecon-2026
SEQUENCE:0
SUMMARY:Triangle InfoSeCon 2026: deadline to submit a session
UID:6b9d9c9f-5286-4797-bec2-546df9bb538f
BEGIN:VALARM
ACTION:DISPLAY
DESCRIPTION:Reminder
SUMMARY:Triangle InfoSeCon 2026: deadline to submit a session
TRIGGER:-P2D
END:VALARM
END:VEVENT
END:VCALENDAR
