BEGIN:VCALENDAR
PRODID:-//github.com/ical-org/ical.net//NONSGML ical.net 4.0//EN
VERSION:2.0
BEGIN:VEVENT
CREATED:20260424T142905Z
DESCRIPTION:This is a reminder to submit a session to Umbraco US Festival 
 2026.\nSet the alarm/notification to ensure you don't miss it!\nSessions 
 can be submitted at https://sessionize.com/umbraco-us-festival-2026/
DTEND:20260601T045900Z
DTSTAMP:20260424T142905Z
DTSTART:20260601T045900Z
LAST-MODIFIED:20260424T142905Z
LOCATION:https://sessionize.com/umbraco-us-festival-2026
SEQUENCE:0
SUMMARY:Umbraco US Festival 2026: deadline to submit a session
UID:995506a1-8514-4f99-b747-86f0533292fc
BEGIN:VALARM
ACTION:DISPLAY
DESCRIPTION:Reminder
SUMMARY:Umbraco US Festival 2026: deadline to submit a session
TRIGGER:-P2D
END:VALARM
END:VEVENT
END:VCALENDAR
