BEGIN:VCALENDAR
PRODID:-//github.com/ical-org/ical.net//NONSGML ical.net 4.0//EN
VERSION:2.0
BEGIN:VEVENT
CREATED:20260421T120308Z
DESCRIPTION:This is a reminder to submit a session to Unknown Security Con
 ference 2026.\nSet the alarm/notification to ensure you don't miss it!\nS
 essions can be submitted at https://sessionize.com/unknown-2026/
DTEND:20260520T045900Z
DTSTAMP:20260421T120308Z
DTSTART:20260520T045900Z
LAST-MODIFIED:20260421T120308Z
LOCATION:https://sessionize.com/unknown-2026
SEQUENCE:0
SUMMARY:Unknown Security Conference 2026: deadline to submit a session
UID:8fc0dee5-b52b-4b66-87aa-bdf91d790472
BEGIN:VALARM
ACTION:DISPLAY
DESCRIPTION:Reminder
SUMMARY:Unknown Security Conference 2026: deadline to submit a session
TRIGGER:-P2D
END:VALARM
END:VEVENT
END:VCALENDAR
