BEGIN:VCALENDAR
PRODID:-//github.com/ical-org/ical.net//NONSGML ical.net 4.0//EN
VERSION:2.0
BEGIN:VEVENT
CREATED:20260421T231710Z
DESCRIPTION:This is a reminder to submit a session to Virtual Java User Gr
 oup.\nSet the alarm/notification to ensure you don't miss it!\nSessions c
 an be submitted at https://sessionize.com/virtual-java-user-group/
DTEND:20261231T235900Z
DTSTAMP:20260421T231710Z
DTSTART:20261231T235900Z
LAST-MODIFIED:20260421T231710Z
LOCATION:https://sessionize.com/virtual-java-user-group
SEQUENCE:0
SUMMARY:Virtual Java User Group: deadline to submit a session
UID:171e80d5-dd68-4650-a54b-8cee30c66002
BEGIN:VALARM
ACTION:DISPLAY
DESCRIPTION:Reminder
SUMMARY:Virtual Java User Group: deadline to submit a session
TRIGGER:-P2D
END:VALARM
END:VEVENT
END:VCALENDAR
