BEGIN:VCALENDAR
PRODID:-//github.com/ical-org/ical.net//NONSGML ical.net 4.0//EN
VERSION:2.0
BEGIN:VEVENT
CREATED:20260426T040040Z
DESCRIPTION:This is a reminder to submit a session to WeAreDevelopers Conf
 erence 2026 - India.\nSet the alarm/notification to ensure you don't miss
  it!\nSessions can be submitted at https://sessionize.com/wearedevelopers
 -conference-2026-india/
DTEND:20260724T182900Z
DTSTAMP:20260426T040040Z
DTSTART:20260724T182900Z
LAST-MODIFIED:20260426T040040Z
LOCATION:https://sessionize.com/wearedevelopers-conference-2026-india
SEQUENCE:0
SUMMARY:WeAreDevelopers Conference 2026 - India: deadline to submit a sess
 ion
UID:a16f8305-4d10-454e-a072-746fd18a2d2d
BEGIN:VALARM
ACTION:DISPLAY
DESCRIPTION:Reminder
SUMMARY:WeAreDevelopers Conference 2026 - India: deadline to submit a sess
 ion
TRIGGER:-P2D
END:VALARM
END:VEVENT
END:VCALENDAR
