BEGIN:VCALENDAR
PRODID:-//github.com/ical-org/ical.net//NONSGML ical.net 4.0//EN
VERSION:2.0
BEGIN:VEVENT
CREATED:20260421T123235Z
DESCRIPTION:This is a reminder to submit a session to Web Rebels 2027.\nSe
 t the alarm/notification to ensure you don't miss it!\nSessions can be su
 bmitted at https://sessionize.com/web-rebels-2027/
DTEND:20260831T215900Z
DTSTAMP:20260421T123235Z
DTSTART:20260831T215900Z
LAST-MODIFIED:20260421T123235Z
LOCATION:https://sessionize.com/web-rebels-2027
SEQUENCE:0
SUMMARY:Web Rebels 2027: deadline to submit a session
UID:e7ce451c-98b1-42c9-b23f-94fda37eacd4
BEGIN:VALARM
ACTION:DISPLAY
DESCRIPTION:Reminder
SUMMARY:Web Rebels 2027: deadline to submit a session
TRIGGER:-P2D
END:VALARM
END:VEVENT
END:VCALENDAR
