BEGIN:VCALENDAR
PRODID:-//github.com/ical-org/ical.net//NONSGML ical.net 4.0//EN
VERSION:2.0
BEGIN:VEVENT
CREATED:20260421T082412Z
DESCRIPTION:This is a reminder to submit a session to Workplace Ninja Braz
 il.\nSet the alarm/notification to ensure you don't miss it!\nSessions ca
 n be submitted at https://sessionize.com/workplace-ninja-brazil/
DTEND:20260510T025900Z
DTSTAMP:20260421T082412Z
DTSTART:20260510T025900Z
LAST-MODIFIED:20260421T082412Z
LOCATION:https://sessionize.com/workplace-ninja-brazil
SEQUENCE:0
SUMMARY:Workplace Ninja Brazil: deadline to submit a session
UID:b0832cb8-900d-4988-abad-168354a8d478
BEGIN:VALARM
ACTION:DISPLAY
DESCRIPTION:Reminder
SUMMARY:Workplace Ninja Brazil: deadline to submit a session
TRIGGER:-P2D
END:VALARM
END:VEVENT
END:VCALENDAR
