BEGIN:VCALENDAR
PRODID:-//github.com/ical-org/ical.net//NONSGML ical.net 4.0//EN
VERSION:2.0
BEGIN:VEVENT
CREATED:20260423T220543Z
DESCRIPTION:This is a reminder to submit a session to Write The Docs Kenya
  Conference.\nSet the alarm/notification to ensure you don't miss it!\nSe
 ssions can be submitted at https://sessionize.com/write-the-docs-kenya-co
 nference/
DTEND:20260531T205900Z
DTSTAMP:20260423T220543Z
DTSTART:20260531T205900Z
LAST-MODIFIED:20260423T220543Z
LOCATION:https://sessionize.com/write-the-docs-kenya-conference
SEQUENCE:0
SUMMARY:Write The Docs Kenya Conference: deadline to submit a session
UID:d8597066-a990-476d-ace1-4766e08f599e
BEGIN:VALARM
ACTION:DISPLAY
DESCRIPTION:Reminder
SUMMARY:Write The Docs Kenya Conference: deadline to submit a session
TRIGGER:-P2D
END:VALARM
END:VEVENT
END:VCALENDAR
